BEGIN:VCALENDAR
VERSION:2.0
PRODID:-//Umweltdienstleister - ECPv6.15.13.1//NONSGML v1.0//EN
CALSCALE:GREGORIAN
METHOD:PUBLISH
X-ORIGINAL-URL:https://umweltdienstleister.de
X-WR-CALDESC:Veranstaltungen für Umweltdienstleister
REFRESH-INTERVAL;VALUE=DURATION:PT1H
X-Robots-Tag:noindex
X-PUBLISHED-TTL:PT1H
BEGIN:VTIMEZONE
TZID:UTC
BEGIN:STANDARD
TZOFFSETFROM:+0000
TZOFFSETTO:+0000
TZNAME:UTC
DTSTART:20240101T000000
END:STANDARD
END:VTIMEZONE
BEGIN:VEVENT
DTSTART;VALUE=DATE:20250317
DTEND;VALUE=DATE:20250322
DTSTAMP:20260421T045754
CREATED:20240807T102407Z
LAST-MODIFIED:20240807T102612Z
UID:33171-1742169600-1742601599@umweltdienstleister.de
SUMMARY:ISH 2025 zeigt Lösungen für eine nachhaltige Zukunft
DESCRIPTION:Mit welchen Technologien und innovativen Lösungen dies gelingen kann\, präsentieren die Experten der SHK-Branche auf der ISH vom 17. bis 21. März 2025. Ein erstes Zwischenfazit zeigt: Über 2.000 Aussteller planen dabei zu sein. Ihr gesamtes Leistungsspektrum ist 2025 nach thematischen Lösungsfeldern gegliedert. \nDie Weltleitmesse für Wasser\, Wärme und Luft ist der internationale Treffpunkt für SHK-Handwerk und -Industrie\, Fachplaner und Ingenieure\, Handel\, Archi- tekten\, Innenarchitekten und Designer\, die Bau- und Wohnungswirtschaft sowie Investoren und Kommunen. Sie alle kommen nach Frankfurt\, um die Innovat- ionen der Sanitär-\, Heizungs- und Klimatechnikbranche zu erleben\, neues Wissen aufzubauen und zu netzwerken. So vielseitig wie die Interessen der Besuchenden ist auch das Angebot der Aussteller. „Unser erstes Zwischenfazit nach Ablauf des Frühbucherpreises zeigt\, bereits über 2.000 Unternehmen haben signalisiert\, dass sie zur kommenden ISH dabei sein wollen. Darunter sind zahlreiche national und international führende Marken aus den Bereichen Sanitär\, Heizung und Klima“\, freut sich Stefan Seitz\, Leiter Brandmanagement ISH. \nUnter dem Motto „Lösungen für eine nachhaltige Zukunft“ stellt die ISH 2025 in den Mittelpunkt\, was die SHK-Branche bewegt. Dazu gehören umweltverträgliche und effiziente Wärmeerzeugung\, ein bewusster Umgang mit Wasser sowie hygienische und saubere Luft. Die Themen der SHK-Branche spiegeln sich auch in der Messegestaltung wider. Seitz erklärt: „Die ISH hat eine breite Besucherstruktur. Jeder von ihnen kommt mit anderen Bedürfnissen\, Interessen und Fragestellungen auf die ISH. Aus diesem Grund haben wir acht verschiedene Lösungsfelder entwickelt\, die noch stärker auf die Bedürfnisse der Besucherinnen und Besucher eingehen. Dadurch soll jeder für seinen Anwendungsbereich zielsicher die passenden Lösungen finden“. \n 
URL:https://umweltdienstleister.de/umweltkalender/ish-2025-zeigt-loesungen-fuer-eine-nachhaltige-zukunft/
LOCATION:Messe Frankfurt\, Deutschland
END:VEVENT
BEGIN:VEVENT
DTSTART;VALUE=DATE:20250325
DTEND;VALUE=DATE:20250328
DTSTAMP:20260421T045755
CREATED:20241211T095003Z
LAST-MODIFIED:20241211T095121Z
UID:33494-1742860800-1743119999@umweltdienstleister.de
SUMMARY:Messedoppel eltefa und Volta-X
DESCRIPTION:(Bild: Landesmesse Stuttgart GmbH & Co.KG.)\nDie Messen eltefa und Volta-X kündigen eine noch engere Zusammenarbeit an\, um Synergien optimal zu nutzen und ein kompaktes Messeerlebnis zu bieten. Durch die räumliche Nähe in den Messehallen profitieren Besucherinnen und Besucher von einem vorteilhaften Messekonzept ohne Hallenwechsel und einer thematischen Verdichtung\, die einen optimalen Überblick über die Branche gibt. \nSynergien für die Energiewende \nDie beiden Messen verbinden nicht nur ihre Themen\, sondern auch ihre Zielgruppen\, um es den Teilnehmerinnen und Teilnehmern zu ermöglichen\, sich ganzheitlich über die neuesten Technologien und Dienstleistungen im Bereich der Energieversorgung zu informieren. \nVolta-X Energy Systems Expo\nVolta-X ist die neue\, internationale Energieplattform für Produkte\, Services und Lösungen. Auf der dreitägigen Fachmesse mit Konferenz diskutieren Wirtschaft\, Wissenschaft und Politik über die Anforderungen und Lösungen zur Energiewende. Erleben Sie innovative und intelligente Energietechnologien – insbesondere für die Sektorenkopplung von Strom\, Wärme\, Mobilität und Industrie. Wertvolle Synergien ergeben sich aus der parallel stattfindenden eltefa – Fachmesse für Elektro\, Energie\, Gebäude und Industrie. \nhttps://www.messe-stuttgart.de/eltefa/messe/auf-einen-blick
URL:https://umweltdienstleister.de/umweltkalender/messedoppel-eltefa-und-volta-x/
LOCATION:Messe Stuttgart
ATTACH;FMTTYPE=image/jpeg:https://umweltdienstleister.de/wp-content/uploads/archiv_ELTEFA_23.jpg
END:VEVENT
END:VCALENDAR